BEGIN:VCALENDAR
VERSION:2.0
PRODID:icalendar-ruby
CALSCALE:GREGORIAN
METHOD:PUBLISH
BEGIN:VEVENT
DTSTAMP:20260420T093120Z
UID:5-351870@biblewaybible.tithelysetup2.com
DTSTART:20260913T173000Z
DTEND:20260913T183000Z
CLASS:PUBLIC
CREATED:20260316T224415
DESCRIPTION:Sunday Worship
LAST-MODIFIED:20260316T224415
LOCATION:
SUMMARY:Sunday Worship
URL;VALUE=URI:https://www.biblewaybiblechurch.com/events/sunday-worship/202
 6-09-13
END:VEVENT
END:VCALENDAR
