BEGIN:VCALENDAR
VERSION:2.0
PRODID:icalendar-ruby
CALSCALE:GREGORIAN
METHOD:PUBLISH
BEGIN:VEVENT
DTSTAMP:20260419T232903Z
UID:5-351864@biblewaybible.tithelysetup2.com
DTSTART:20260802T173000Z
DTEND:20260802T183000Z
CLASS:PUBLIC
CREATED:20260316T224415
DESCRIPTION:Sunday Worship
LAST-MODIFIED:20260316T224415
LOCATION:
SUMMARY:Sunday Worship
URL;VALUE=URI:https://www.biblewaybiblechurch.com/events/sunday-worship/202
 6-08-02
END:VEVENT
END:VCALENDAR
